BEGIN:VCALENDAR
VERSION:2.0
PRODID:-//Youball Foundation - ECPv6.15.20//NONSGML v1.0//EN
CALSCALE:GREGORIAN
METHOD:PUBLISH
X-WR-CALNAME:Youball Foundation
X-ORIGINAL-URL:https://youballfoundation.org
X-WR-CALDESC:Events for Youball Foundation
REFRESH-INTERVAL;VALUE=DURATION:PT1H
X-Robots-Tag:noindex
X-PUBLISHED-TTL:PT1H
BEGIN:VTIMEZONE
TZID:UTC
BEGIN:STANDARD
TZOFFSETFROM:+0000
TZOFFSETTO:+0000
TZNAME:UTC
DTSTART:20160101T000000
END:STANDARD
END:VTIMEZONE
BEGIN:VEVENT
DTSTART;TZID=UTC:20170408T080000
DTEND;TZID=UTC:20170409T170000
DTSTAMP:20260421T123233
CREATED:20170405T100539Z
LAST-MODIFIED:20170405T100539Z
UID:1349-1491638400-1491757200@youballfoundation.org
SUMMARY:15th Annual Cali Classic
DESCRIPTION:
URL:https://youballfoundation.org/event/15th-annual-cali-classic/
CATEGORIES:Tournament,YBT AAU
END:VEVENT
END:VCALENDAR