BEGIN:VCALENDAR
VERSION:2.0
PRODID:-//Youball Foundation - ECPv6.15.20//NONSGML v1.0//EN
CALSCALE:GREGORIAN
METHOD:PUBLISH
X-WR-CALNAME:Youball Foundation
X-ORIGINAL-URL:https://youballfoundation.org
X-WR-CALDESC:Events for Youball Foundation
REFRESH-INTERVAL;VALUE=DURATION:PT1H
X-Robots-Tag:noindex
X-PUBLISHED-TTL:PT1H
BEGIN:VTIMEZONE
TZID:UTC
BEGIN:STANDARD
TZOFFSETFROM:+0000
TZOFFSETTO:+0000
TZNAME:UTC
DTSTART:20160101T000000
END:STANDARD
END:VTIMEZONE
BEGIN:VEVENT
DTSTART;TZID=UTC:20170727T080000
DTEND;TZID=UTC:20170730T170000
DTSTAMP:20260421T104641
CREATED:20170405T102318Z
LAST-MODIFIED:20170405T102318Z
UID:1375-1501142400-1501434000@youballfoundation.org
SUMMARY:NCAA Certified Event
DESCRIPTION:
URL:https://youballfoundation.org/event/ncaa-certified-event/
CATEGORIES:Tournament,YBT AAU
END:VEVENT
BEGIN:VEVENT
DTSTART;TZID=UTC:20170719T080000
DTEND;TZID=UTC:20170723T170000
DTSTAMP:20260421T104641
CREATED:20170405T102216Z
LAST-MODIFIED:20170405T102216Z
UID:1373-1500451200-1500829200@youballfoundation.org
SUMMARY:Double Pump NCAA Certified Event
DESCRIPTION:
URL:https://youballfoundation.org/event/double-pump-ncaa-certified-event-4/
CATEGORIES:Tournament,YBT AAU
END:VEVENT
BEGIN:VEVENT
DTSTART;TZID=UTC:20170712T080000
DTEND;TZID=UTC:20170716T170000
DTSTAMP:20260421T104641
CREATED:20170405T102118Z
LAST-MODIFIED:20170405T102118Z
UID:1371-1499846400-1500224400@youballfoundation.org
SUMMARY:Double Pump NCAA Certified Event
DESCRIPTION:
URL:https://youballfoundation.org/event/double-pump-ncaa-certified-event-3/
CATEGORIES:Tournament,YBT AAU
END:VEVENT
BEGIN:VEVENT
DTSTART;TZID=UTC:20170712T080000
DTEND;TZID=UTC:20170716T170000
DTSTAMP:20260421T104641
CREATED:20170405T101956Z
LAST-MODIFIED:20170405T101956Z
UID:1369-1499846400-1500224400@youballfoundation.org
SUMMARY:Double Pump NCAA Certified Event
DESCRIPTION:
URL:https://youballfoundation.org/event/double-pump-ncaa-certified-event-2/
CATEGORIES:Tournament,YBT AAU
END:VEVENT
BEGIN:VEVENT
DTSTART;TZID=UTC:20170622T080000
DTEND;TZID=UTC:20170624T170000
DTSTAMP:20260421T104641
CREATED:20170405T101804Z
LAST-MODIFIED:20170405T101836Z
UID:1367-1498118400-1498323600@youballfoundation.org
SUMMARY:Big Mountain Jam
DESCRIPTION:
URL:https://youballfoundation.org/event/big-mountain-jam/
CATEGORIES:Tournament,YBT AAU
END:VEVENT
BEGIN:VEVENT
DTSTART;TZID=UTC:20170616T080000
DTEND;TZID=UTC:20170618T170000
DTSTAMP:20260421T104641
CREATED:20170405T101636Z
LAST-MODIFIED:20170405T101636Z
UID:1365-1497600000-1497805200@youballfoundation.org
SUMMARY:Coca Cola National
DESCRIPTION:
URL:https://youballfoundation.org/event/coca-cola-national/
CATEGORIES:Tournament,YBT AAU
END:VEVENT
BEGIN:VEVENT
DTSTART;TZID=UTC:20170612T080000
DTEND;TZID=UTC:20170616T170000
DTSTAMP:20260421T104641
CREATED:20170405T101547Z
LAST-MODIFIED:20170405T101547Z
UID:1363-1497254400-1497632400@youballfoundation.org
SUMMARY:Double Pump NCAA Certified Events
DESCRIPTION:
URL:https://youballfoundation.org/event/double-pump-ncaa-certified-events/
CATEGORIES:Tournament,YBT AAU
END:VEVENT
BEGIN:VEVENT
DTSTART;TZID=UTC:20170527T080000
DTEND;TZID=UTC:20170528T170000
DTSTAMP:20260421T104641
CREATED:20170405T101256Z
LAST-MODIFIED:20170405T101256Z
UID:1359-1495872000-1495990800@youballfoundation.org
SUMMARY:Cali Memorial Games Invitational
DESCRIPTION:
URL:https://youballfoundation.org/event/cali-memorial-games-invitational/
CATEGORIES:Tournament,YBT AAU
END:VEVENT
BEGIN:VEVENT
DTSTART;TZID=UTC:20170520T080000
DTEND;TZID=UTC:20170521T170000
DTSTAMP:20260421T104641
CREATED:20170405T101127Z
LAST-MODIFIED:20170405T101146Z
UID:1357-1495267200-1495386000@youballfoundation.org
SUMMARY:California Dreaming Invitational
DESCRIPTION:
URL:https://youballfoundation.org/event/california-dreaming-invitational/
CATEGORIES:Tournament,YBT AAU
END:VEVENT
BEGIN:VEVENT
DTSTART;TZID=UTC:20170506T080000
DTEND;TZID=UTC:20170506T170000
DTSTAMP:20260421T104641
CREATED:20170405T101033Z
LAST-MODIFIED:20170405T101033Z
UID:1355-1494057600-1494090000@youballfoundation.org
SUMMARY:Open Gym Premier
DESCRIPTION:
URL:https://youballfoundation.org/event/open-gym-premier/
CATEGORIES:Tournament,YBT AAU
END:VEVENT
BEGIN:VEVENT
DTSTART;TZID=UTC:20170428T080000
DTEND;TZID=UTC:20170430T170000
DTSTAMP:20260421T104641
CREATED:20170405T100815Z
LAST-MODIFIED:20170405T100815Z
UID:1353-1493366400-1493571600@youballfoundation.org
SUMMARY:Double Pump NCAA Certified Event
DESCRIPTION:
URL:https://youballfoundation.org/event/double-pump-ncaa-certified-event/
CATEGORIES:Tournament,YBT AAU
END:VEVENT
BEGIN:VEVENT
DTSTART;TZID=UTC:20170422T080000
DTEND;TZID=UTC:20170423T170000
DTSTAMP:20260421T104641
CREATED:20170405T100714Z
LAST-MODIFIED:20170405T100714Z
UID:1351-1492848000-1492966800@youballfoundation.org
SUMMARY:Cali Spring Classic
DESCRIPTION:
URL:https://youballfoundation.org/event/cali-spring-classic/
CATEGORIES:Tournament,YBT AAU
END:VEVENT
BEGIN:VEVENT
DTSTART;TZID=UTC:20170408T080000
DTEND;TZID=UTC:20170409T170000
DTSTAMP:20260421T104641
CREATED:20170405T100539Z
LAST-MODIFIED:20170405T100539Z
UID:1349-1491638400-1491757200@youballfoundation.org
SUMMARY:15th Annual Cali Classic
DESCRIPTION:
URL:https://youballfoundation.org/event/15th-annual-cali-classic/
CATEGORIES:Tournament,YBT AAU
END:VEVENT
END:VCALENDAR